Package: Polytect Version: 1.1.0 Command: /Library/Frameworks/R.framework/Resources/bin/R CMD INSTALL Polytect StartedAt: 2025-10-23 15:06:02 -0400 (Thu, 23 Oct 2025) EndedAt: 2025-10-23 15:06:09 -0400 (Thu, 23 Oct 2025) EllapsedTime: 6.5 seconds RetCode: 0 Status: OK