Package: Polytect Version: 1.1.0 Command: /Library/Frameworks/R.framework/Resources/bin/R CMD check --install=check:Polytect.install-out.txt --library=/Library/Frameworks/R.framework/Resources/library --no-vignettes --timings Polytect_1.1.0.tar.gz StartedAt: 2025-10-23 21:30:21 -0400 (Thu, 23 Oct 2025) EndedAt: 2025-10-23 21:31:01 -0400 (Thu, 23 Oct 2025) EllapsedTime: 40.5 seconds RetCode: 0 Status: OK CheckDir: Polytect.Rcheck Warnings: 0