Package: Polytect Version: 1.1.0 Command: /Library/Frameworks/R.framework/Resources/bin/R CMD build --keep-empty-dirs --no-resave-data Polytect StartedAt: 2025-10-24 17:23:07 -0400 (Fri, 24 Oct 2025) EndedAt: 2025-10-24 17:23:36 -0400 (Fri, 24 Oct 2025) EllapsedTime: 29.3 seconds RetCode: 0 Status: OK PackageFile: Polytect_1.1.0.tar.gz PackageFileSize: 2.157 MiB