Package: PoDCall Version: 1.17.1 Command: /home/biocbuild/R/R/bin/R CMD INSTALL PoDCall StartedAt: 2025-10-16 21:16:37 -0000 (Thu, 16 Oct 2025) EndedAt: 2025-10-16 21:17:04 -0000 (Thu, 16 Oct 2025) EllapsedTime: 27.2 seconds RetCode: 0 Status: OK