Package: PoDCall Version: 1.17.1 Command: /home/biocbuild/R/R/bin/R CMD build --keep-empty-dirs --no-resave-data PoDCall StartedAt: 2025-10-21 02:06:24 -0000 (Tue, 21 Oct 2025) EndedAt: 2025-10-21 02:06:51 -0000 (Tue, 21 Oct 2025) EllapsedTime: 27.0 seconds RetCode: 0 Status: OK PackageFile: PoDCall_1.17.1.tar.gz PackageFileSize: 2.298 MiB