Package: PoDCall Version: 1.17.1 Command: F:\biocbuild\bbs-3.22-bioc\R\bin\R.exe CMD check --no-multiarch --install=check:PoDCall.install-out.txt --library=F:\biocbuild\bbs-3.22-bioc\R\library --no-vignettes --timings PoDCall_1.17.1.tar.gz StartedAt: 2025-08-15 06:29:28 -0400 (Fri, 15 Aug 2025) EndedAt: 2025-08-15 06:46:02 -0400 (Fri, 15 Aug 2025) EllapsedTime: 993.5 seconds RetCode: 0 Status: OK CheckDir: PoDCall.Rcheck Warnings: 0