Package: PoDCall Version: 1.17.1 Command: rm -rf PoDCall.buildbin-libdir && mkdir PoDCall.buildbin-libdir && F:\biocbuild\bbs-3.22-bioc\R\bin\R.exe CMD INSTALL --build --library=PoDCall.buildbin-libdir PoDCall_1.17.1.tar.gz StartedAt: 2025-08-15 10:58:32 -0400 (Fri, 15 Aug 2025) EndedAt: 2025-08-15 10:58:47 -0400 (Fri, 15 Aug 2025) EllapsedTime: 14.6 seconds RetCode: 0 Status: OK PackageFile: PoDCall_1.17.1.zip PackageFileSize: 1.163 MiB