Package: PoDCall Version: 1.17.1 Command: /Library/Frameworks/R.framework/Resources/bin/R CMD INSTALL PoDCall StartedAt: 2025-10-23 15:10:03 -0400 (Thu, 23 Oct 2025) EndedAt: 2025-10-23 15:10:48 -0400 (Thu, 23 Oct 2025) EllapsedTime: 45.7 seconds RetCode: 0 Status: OK