Package: PoDCall Version: 1.17.1 Command: /Library/Frameworks/R.framework/Resources/bin/R CMD build --keep-empty-dirs --no-resave-data PoDCall StartedAt: 2025-10-23 18:11:15 -0400 (Thu, 23 Oct 2025) EndedAt: 2025-10-23 18:11:39 -0400 (Thu, 23 Oct 2025) EllapsedTime: 24.0 seconds RetCode: 0 Status: OK PackageFile: PoDCall_1.17.1.tar.gz PackageFileSize: 3.05 MiB