Package: Pirat Version: 1.3.0 Command: F:\biocbuild\bbs-3.22-bioc\R\bin\R.exe CMD check --no-multiarch --install=check:Pirat.install-out.txt --library=F:\biocbuild\bbs-3.22-bioc\R\library --no-vignettes --timings Pirat_1.3.0.tar.gz StartedAt: 2025-05-09 04:54:56 -0400 (Fri, 09 May 2025) EndedAt: 2025-05-09 05:00:47 -0400 (Fri, 09 May 2025) EllapsedTime: 350.5 seconds RetCode: 0 Status: OK CheckDir: Pirat.Rcheck Warnings: 0