Package: Pirat Version: 1.3.0 Command: rm -rf Pirat.buildbin-libdir && mkdir Pirat.buildbin-libdir && F:\biocbuild\bbs-3.22-bioc\R\bin\R.exe CMD INSTALL --build --library=Pirat.buildbin-libdir Pirat_1.3.0.tar.gz StartedAt: 2025-05-09 09:19:43 -0400 (Fri, 09 May 2025) EndedAt: 2025-05-09 09:20:13 -0400 (Fri, 09 May 2025) EllapsedTime: 30.3 seconds RetCode: 0 Status: OK PackageFile: Pirat_1.3.0.zip PackageFileSize: 2.636 MiB