Package: Pirat Version: 1.3.0 Command: /Library/Frameworks/R.framework/Resources/bin/R CMD check --install=check:Pirat.install-out.txt --library=/Library/Frameworks/R.framework/Resources/library --no-vignettes --timings Pirat_1.3.0.tar.gz StartedAt: 2025-05-08 21:12:41 -0400 (Thu, 08 May 2025) EndedAt: 2025-05-08 21:14:16 -0400 (Thu, 08 May 2025) EllapsedTime: 95.2 seconds RetCode: 0 Status: OK CheckDir: Pirat.Rcheck Warnings: 0