Package: Pigengene Version: 1.36.0 Command: /home/biocbuild/R/R/bin/R CMD INSTALL Pigengene StartedAt: 2025-11-20 22:40:22 -0000 (Thu, 20 Nov 2025) EndedAt: 2025-11-20 22:41:02 -0000 (Thu, 20 Nov 2025) EllapsedTime: 40.2 seconds RetCode: 0 Status: OK