Package: Pigengene Version: 1.36.0 Command: /home/biocbuild/R/R/bin/R CMD check --install=check:Pigengene.install-out.txt --library=/home/biocbuild/R/R/site-library --no-vignettes --timings Pigengene_1.36.0.tar.gz StartedAt: 2025-11-21 14:16:44 -0000 (Fri, 21 Nov 2025) EndedAt: 2025-11-21 14:26:00 -0000 (Fri, 21 Nov 2025) EllapsedTime: 555.6 seconds RetCode: 1 Status: ERROR CheckDir: Pigengene.Rcheck Warnings: NA