Package: Pigengene Version: 1.36.0 Command: /home/biocbuild/R/R/bin/R CMD build --keep-empty-dirs --no-resave-data Pigengene StartedAt: 2025-11-21 04:47:39 -0000 (Fri, 21 Nov 2025) EndedAt: 2025-11-21 04:52:50 -0000 (Fri, 21 Nov 2025) EllapsedTime: 311.1 seconds RetCode: 0 Status: OK PackageFile: Pigengene_1.36.0.tar.gz PackageFileSize: 2.687 MiB