Package: PhyloProfile Version: 2.1.12 Command: /home/biocbuild/R/R/bin/R CMD INSTALL PhyloProfile StartedAt: 2025-10-16 21:27:56 -0000 (Thu, 16 Oct 2025) EndedAt: 2025-10-16 21:28:27 -0000 (Thu, 16 Oct 2025) EllapsedTime: 30.6 seconds RetCode: 0 Status: OK