Package: PhyloProfile Version: 2.1.12 Command: /home/biocbuild/R/R/bin/R CMD build --keep-empty-dirs --no-resave-data PhyloProfile StartedAt: 2025-10-21 02:03:50 -0000 (Tue, 21 Oct 2025) EndedAt: 2025-10-21 02:04:46 -0000 (Tue, 21 Oct 2025) EllapsedTime: 56.0 seconds RetCode: 0 Status: OK PackageFile: PhyloProfile_2.1.12.tar.gz PackageFileSize: 1.276 MiB