Package: PhyloProfile Version: 2.1.8 Command: F:\biocbuild\bbs-3.22-bioc\R\bin\R.exe CMD check --no-multiarch --install=check:PhyloProfile.install-out.txt --library=F:\biocbuild\bbs-3.22-bioc\R\library --no-vignettes --timings PhyloProfile_2.1.8.tar.gz StartedAt: 2025-08-15 06:23:35 -0400 (Fri, 15 Aug 2025) EndedAt: 2025-08-15 06:27:10 -0400 (Fri, 15 Aug 2025) EllapsedTime: 215.3 seconds RetCode: 0 Status: OK CheckDir: PhyloProfile.Rcheck Warnings: 0