Package: PhyloProfile Version: 2.1.8 Command: chmod a+r PhyloProfile -R && F:\biocbuild\bbs-3.22-bioc\R\bin\R.exe CMD build --keep-empty-dirs --no-resave-data PhyloProfile StartedAt: 2025-08-14 22:20:18 -0400 (Thu, 14 Aug 2025) EndedAt: 2025-08-14 22:21:48 -0400 (Thu, 14 Aug 2025) EllapsedTime: 90.1 seconds RetCode: 0 Status: OK PackageFile: PhyloProfile_2.1.8.tar.gz PackageFileSize: 1.197 MiB