Package: PhyloProfile Version: 2.1.8 Command: rm -rf PhyloProfile.buildbin-libdir && mkdir PhyloProfile.buildbin-libdir && F:\biocbuild\bbs-3.22-bioc\R\bin\R.exe CMD INSTALL --build --library=PhyloProfile.buildbin-libdir PhyloProfile_2.1.8.tar.gz StartedAt: 2025-08-15 10:57:18 -0400 (Fri, 15 Aug 2025) EndedAt: 2025-08-15 11:00:03 -0400 (Fri, 15 Aug 2025) EllapsedTime: 164.5 seconds RetCode: 0 Status: OK PackageFile: PhyloProfile_2.1.8.zip PackageFileSize: 1.298 MiB