Package: PhyloProfile Version: 2.1.12 Command: /home/biocbuild/bbs-3.22-bioc/R/bin/R CMD INSTALL PhyloProfile StartedAt: 2025-10-19 15:16:21 -0400 (Sun, 19 Oct 2025) EndedAt: 2025-10-19 15:16:42 -0400 (Sun, 19 Oct 2025) EllapsedTime: 21.1 seconds RetCode: 0 Status: OK