Package: PhyloProfile Version: 2.1.13 Command: /Library/Frameworks/R.framework/Resources/bin/R CMD check --install=check:PhyloProfile.install-out.txt --library=/Library/Frameworks/R.framework/Resources/library --no-vignettes --timings PhyloProfile_2.1.13.tar.gz StartedAt: 2025-10-22 00:03:07 -0400 (Wed, 22 Oct 2025) EndedAt: 2025-10-22 00:06:29 -0400 (Wed, 22 Oct 2025) EllapsedTime: 201.8 seconds RetCode: 0 Status: OK CheckDir: PhyloProfile.Rcheck Warnings: 0