Package: PhyloProfile Version: 2.1.13 Command: /Library/Frameworks/R.framework/Resources/bin/R CMD build --keep-empty-dirs --no-resave-data PhyloProfile StartedAt: 2025-10-21 19:02:02 -0400 (Tue, 21 Oct 2025) EndedAt: 2025-10-21 19:03:22 -0400 (Tue, 21 Oct 2025) EllapsedTime: 79.2 seconds RetCode: 0 Status: OK PackageFile: PhyloProfile_2.1.13.tar.gz PackageFileSize: 1.429 MiB