Package: PhyloProfile Version: 2.1.13 Command: rm -rf PhyloProfile.buildbin-libdir && mkdir PhyloProfile.buildbin-libdir && /Users/biocbuild/BBS/utils/build-universal.sh PhyloProfile_2.1.13.tar.gz /Library/Frameworks/R.framework/Resources/bin/R PhyloProfile.buildbin-libdir StartedAt: 2025-10-22 02:40:13 -0400 (Wed, 22 Oct 2025) EndedAt: 2025-10-22 02:40:50 -0400 (Wed, 22 Oct 2025) EllapsedTime: 36.9 seconds RetCode: 0 Status: OK PackageFile: PhyloProfile_2.1.13.tgz PackageFileSize: 1.508 MiB