Package: PhyloProfile Version: 2.1.12 Command: /Library/Frameworks/R.framework/Resources/bin/R CMD build --keep-empty-dirs --no-resave-data PhyloProfile StartedAt: 2025-10-19 17:18:37 -0400 (Sun, 19 Oct 2025) EndedAt: 2025-10-19 17:18:54 -0400 (Sun, 19 Oct 2025) EllapsedTime: 16.2 seconds RetCode: 0 Status: OK PackageFile: PhyloProfile_2.1.12.tar.gz PackageFileSize: 1.43 MiB