Package: PhyloProfile Version: 2.1.12 Command: rm -rf PhyloProfile.buildbin-libdir && mkdir PhyloProfile.buildbin-libdir && /Users/biocbuild/BBS/utils/build-universal.sh PhyloProfile_2.1.12.tar.gz /Library/Frameworks/R.framework/Resources/bin/R PhyloProfile.buildbin-libdir StartedAt: 2025-10-19 23:10:30 -0400 (Sun, 19 Oct 2025) EndedAt: 2025-10-19 23:10:41 -0400 (Sun, 19 Oct 2025) EllapsedTime: 10.2 seconds RetCode: 0 Status: OK PackageFile: PhyloProfile_2.1.12.tgz PackageFileSize: 1.519 MiB