Package: PhyloProfile Version: 2.1.12 Maintainer: Vinh Tran MaintainerEmail: tran at bio.uni-frankfurt.de git_url: https://git.bioconductor.org/packages/PhyloProfile git_branch: devel git_last_commit: f3488bd git_last_commit_date: 2025-10-10 13:16:29 -0400 (Fri, 10 Oct 2025)