Package: PhenoGeneRanker Version: 1.17.0 Command: /home/biocbuild/R/R/bin/R CMD build --keep-empty-dirs --no-resave-data PhenoGeneRanker StartedAt: 2025-10-21 02:02:23 -0000 (Tue, 21 Oct 2025) EndedAt: 2025-10-21 02:10:34 -0000 (Tue, 21 Oct 2025) EllapsedTime: 491.2 seconds RetCode: 0 Status: OK PackageFile: PhenoGeneRanker_1.17.0.tar.gz PackageFileSize: 28.82 KiB