Package: PhenoGeneRanker Version: 1.17.0 Command: /home/biocbuild/bbs-3.22-bioc/R/bin/R CMD INSTALL PhenoGeneRanker StartedAt: 2025-10-28 15:08:18 -0400 (Tue, 28 Oct 2025) EndedAt: 2025-10-28 15:08:29 -0400 (Tue, 28 Oct 2025) EllapsedTime: 11.1 seconds RetCode: 0 Status: OK