Package: PhenoGeneRanker Version: 1.17.0 Command: /home/biocbuild/bbs-3.22-bioc/R/bin/R CMD check --install=check:PhenoGeneRanker.install-out.txt --library=/home/biocbuild/bbs-3.22-bioc/R/site-library --timings PhenoGeneRanker_1.17.0.tar.gz StartedAt: 2025-10-29 02:31:41 -0400 (Wed, 29 Oct 2025) EndedAt: 2025-10-29 02:39:33 -0400 (Wed, 29 Oct 2025) EllapsedTime: 471.4 seconds RetCode: 0 Status: OK CheckDir: PhenoGeneRanker.Rcheck Warnings: 0