Package: PhenoGeneRanker Version: 1.17.0 Command: /Library/Frameworks/R.framework/Resources/bin/R CMD build --keep-empty-dirs --no-resave-data PhenoGeneRanker StartedAt: 2025-10-24 18:14:51 -0400 (Fri, 24 Oct 2025) EndedAt: 2025-10-24 18:20:55 -0400 (Fri, 24 Oct 2025) EllapsedTime: 363.3 seconds RetCode: 0 Status: OK PackageFile: PhenoGeneRanker_1.17.0.tar.gz PackageFileSize: 28.08 KiB