Package: PhenoGeneRanker Version: 1.18.0 Command: /Library/Frameworks/R.framework/Resources/bin/R CMD INSTALL PhenoGeneRanker StartedAt: 2025-10-31 15:08:44 -0400 (Fri, 31 Oct 2025) EndedAt: 2025-10-31 15:08:50 -0400 (Fri, 31 Oct 2025) EllapsedTime: 6.2 seconds RetCode: 0 Status: OK