Package: PharmacoGx Version: 3.14.0 Command: /Library/Frameworks/R.framework/Resources/bin/R CMD INSTALL PharmacoGx StartedAt: 2025-11-17 17:36:54 -0500 (Mon, 17 Nov 2025) EndedAt: 2025-11-17 17:37:11 -0500 (Mon, 17 Nov 2025) EllapsedTime: 17.1 seconds RetCode: 0 Status: OK