Package: PharmacoGx Version: 3.14.0 Command: /Library/Frameworks/R.framework/Resources/bin/R CMD check --install=check:PharmacoGx.install-out.txt --library=/Library/Frameworks/R.framework/Resources/library --no-vignettes --timings PharmacoGx_3.14.0.tar.gz StartedAt: 2025-11-22 17:23:01 -0500 (Sat, 22 Nov 2025) EndedAt: 2025-11-22 17:32:39 -0500 (Sat, 22 Nov 2025) EllapsedTime: 577.3 seconds RetCode: 0 Status: OK CheckDir: PharmacoGx.Rcheck Warnings: 0