Package: PharmacoGx Version: 3.14.0 Command: /Library/Frameworks/R.framework/Resources/bin/R CMD build --keep-empty-dirs --no-resave-data PharmacoGx StartedAt: 2025-11-17 23:46:29 -0500 (Mon, 17 Nov 2025) EndedAt: 2025-11-17 23:47:03 -0500 (Mon, 17 Nov 2025) EllapsedTime: 33.3 seconds RetCode: 0 Status: OK PackageFile: PharmacoGx_3.14.0.tar.gz PackageFileSize: 4.468 MiB