Package: PharmacoGx Version: 3.14.0 Command: rm -rf PharmacoGx.buildbin-libdir && mkdir PharmacoGx.buildbin-libdir && /Users/biocbuild/BBS/utils/build-universal.sh PharmacoGx_3.14.0.tar.gz /Library/Frameworks/R.framework/Resources/bin/R PharmacoGx.buildbin-libdir StartedAt: 2025-11-18 16:06:29 -0500 (Tue, 18 Nov 2025) EndedAt: 2025-11-18 16:06:53 -0500 (Tue, 18 Nov 2025) EllapsedTime: 23.3 seconds RetCode: 0 Status: OK PackageFile: PharmacoGx_3.14.0.tgz PackageFileSize: 3.931 MiB