Package: PepsNMR Version: 1.27.0 Command: /home/biocbuild/R/R/bin/R CMD INSTALL PepsNMR StartedAt: 2025-10-16 21:21:06 -0000 (Thu, 16 Oct 2025) EndedAt: 2025-10-16 21:21:31 -0000 (Thu, 16 Oct 2025) EllapsedTime: 25.0 seconds RetCode: 0 Status: OK