Package: PepsNMR Version: 1.27.0 Command: /home/biocbuild/R/R/bin/R CMD build --keep-empty-dirs --no-resave-data PepsNMR StartedAt: 2025-10-17 03:30:04 -0000 (Fri, 17 Oct 2025) EndedAt: 2025-10-17 03:33:37 -0000 (Fri, 17 Oct 2025) EllapsedTime: 213.1 seconds RetCode: 0 Status: OK PackageFile: PepsNMR_1.27.0.tar.gz PackageFileSize: 1.025 MiB