Package: PepsNMR Version: 1.27.0 Command: /home/biocbuild/bbs-3.22-bioc/R/bin/R CMD INSTALL PepsNMR StartedAt: 2025-10-19 15:11:37 -0400 (Sun, 19 Oct 2025) EndedAt: 2025-10-19 15:11:48 -0400 (Sun, 19 Oct 2025) EllapsedTime: 10.6 seconds RetCode: 0 Status: OK