Package: PepsNMR Version: 1.27.0 Command: /Library/Frameworks/R.framework/Resources/bin/R CMD INSTALL PepsNMR StartedAt: 2025-10-19 15:14:15 -0400 (Sun, 19 Oct 2025) EndedAt: 2025-10-19 15:14:46 -0400 (Sun, 19 Oct 2025) EllapsedTime: 31.5 seconds RetCode: 0 Status: OK