Package: PepsNMR Version: 1.27.0 Command: /Library/Frameworks/R.framework/Resources/bin/R CMD check --install=check:PepsNMR.install-out.txt --library=/Library/Frameworks/R.framework/Resources/library --no-vignettes --timings PepsNMR_1.27.0.tar.gz StartedAt: 2025-10-20 00:38:38 -0400 (Mon, 20 Oct 2025) EndedAt: 2025-10-20 00:50:37 -0400 (Mon, 20 Oct 2025) EllapsedTime: 719.2 seconds RetCode: 0 Status: OK CheckDir: PepsNMR.Rcheck Warnings: 0