Package: PepsNMR Version: 1.27.0 Command: /Library/Frameworks/R.framework/Resources/bin/R CMD check --install=check:PepsNMR.install-out.txt --library=/Library/Frameworks/R.framework/Resources/library --no-vignettes --timings PepsNMR_1.27.0.tar.gz StartedAt: 2025-10-19 21:14:58 -0400 (Sun, 19 Oct 2025) EndedAt: 2025-10-19 21:18:11 -0400 (Sun, 19 Oct 2025) EllapsedTime: 193.3 seconds RetCode: 0 Status: OK CheckDir: PepsNMR.Rcheck Warnings: 0