Package: PepsNMR Version: 1.27.0 Command: /Library/Frameworks/R.framework/Resources/bin/R CMD build --keep-empty-dirs --no-resave-data PepsNMR StartedAt: 2025-10-19 17:17:47 -0400 (Sun, 19 Oct 2025) EndedAt: 2025-10-19 17:19:20 -0400 (Sun, 19 Oct 2025) EllapsedTime: 93.1 seconds RetCode: 0 Status: OK PackageFile: PepsNMR_1.27.0.tar.gz PackageFileSize: 1.271 MiB