Package: Pedixplorer Version: 1.5.6 Command: /Library/Frameworks/R.framework/Resources/bin/R CMD INSTALL Pedixplorer StartedAt: 2025-10-16 15:41:40 -0400 (Thu, 16 Oct 2025) EndedAt: 2025-10-16 15:42:18 -0400 (Thu, 16 Oct 2025) EllapsedTime: 37.7 seconds RetCode: 0 Status: OK