Package: Pedixplorer Version: 1.5.6 Command: /Library/Frameworks/R.framework/Resources/bin/R CMD build --keep-empty-dirs --no-resave-data Pedixplorer StartedAt: 2025-10-16 19:11:37 -0400 (Thu, 16 Oct 2025) EndedAt: 2025-10-16 19:13:43 -0400 (Thu, 16 Oct 2025) EllapsedTime: 126.2 seconds RetCode: 0 Status: OK PackageFile: Pedixplorer_1.5.6.tar.gz PackageFileSize: 6.013 MiB