Package: Pedixplorer Version: 1.5.6 Command: rm -rf Pedixplorer.buildbin-libdir && mkdir Pedixplorer.buildbin-libdir && /Users/biocbuild/BBS/utils/build-universal.sh Pedixplorer_1.5.6.tar.gz /Library/Frameworks/R.framework/Resources/bin/R Pedixplorer.buildbin-libdir StartedAt: 2025-10-17 04:05:48 -0400 (Fri, 17 Oct 2025) EndedAt: 2025-10-17 04:06:22 -0400 (Fri, 17 Oct 2025) EllapsedTime: 33.6 seconds RetCode: 0 Status: OK PackageFile: Pedixplorer_1.5.6.tgz PackageFileSize: 5.751 MiB