Package: PeacoQC Version: 1.19.0 Command: /home/biocbuild/R/R/bin/R CMD INSTALL PeacoQC StartedAt: 2025-10-23 20:45:33 -0000 (Thu, 23 Oct 2025) EndedAt: 2025-10-23 20:45:53 -0000 (Thu, 23 Oct 2025) EllapsedTime: 20.6 seconds RetCode: 0 Status: OK