Package: PeacoQC Version: 1.19.0 Command: /home/biocbuild/R/R/bin/R CMD build --keep-empty-dirs --no-resave-data PeacoQC StartedAt: 2025-10-21 02:00:32 -0000 (Tue, 21 Oct 2025) EndedAt: 2025-10-21 02:01:55 -0000 (Tue, 21 Oct 2025) EllapsedTime: 83.1 seconds RetCode: 0 Status: OK PackageFile: PeacoQC_1.19.0.tar.gz PackageFileSize: 1.517 MiB