Package: PeacoQC Version: 1.19.0 Command: rm -rf PeacoQC.buildbin-libdir && mkdir PeacoQC.buildbin-libdir && /Users/biocbuild/BBS/utils/build-universal.sh PeacoQC_1.19.0.tar.gz /Library/Frameworks/R.framework/Resources/bin/R PeacoQC.buildbin-libdir StartedAt: 2025-10-20 03:24:36 -0400 (Mon, 20 Oct 2025) EndedAt: 2025-10-20 03:25:03 -0400 (Mon, 20 Oct 2025) EllapsedTime: 26.8 seconds RetCode: 0 Status: OK PackageFile: PeacoQC_1.19.0.tgz PackageFileSize: 1.6 MiB