Package: PathoStat Version: 1.35.0 Command: /home/biocbuild/bbs-3.22-bioc/R/bin/R CMD INSTALL PathoStat StartedAt: 2025-10-19 15:22:46 -0400 (Sun, 19 Oct 2025) EndedAt: 2025-10-19 15:23:22 -0400 (Sun, 19 Oct 2025) EllapsedTime: 35.6 seconds RetCode: 0 Status: OK